BEGIN:VCALENDAR
VERSION:2.0
PRODID:-//wp-events-plugin.com//7.2.3.1//EN
BEGIN:VEVENT
UID:1@dlcconsulting.co.za
DTSTART:20250521T031500Z
DTEND:20250522T080000Z
DTSTAMP:20250514T130023Z
URL:https://dlcconsulting.co.za/events/test/
SUMMARY:Test CMS Course
DESCRIPTION:This 2 - day course is aimed at giving new HR recruits\, Line M
 anagers and HR Professionals\, Supervisors and Team Leaders with limited e
 xposure to industrial and employee relations\, an introduction and overvie
 w.  Mostly the delegates will be introduced to terminology and basic conc
 epts in the IR environment\, whilst also looking at the external forces th
 at impact on IR in SA.  The course deal with power dynamics and wage nego
 tiations in a unionised environment. At the end of the course the delegate
 s will be better equipped to know their rights and obligations in the work
 place and how to address problems which may have legal implications\, and 
 thus avoid costly litigation.
ATTACH;FMTTYPE=image/jpeg:https://dlcconsulting.co.za/wp-content/uploads/2
 025/05/conflict.png
END:VEVENT
END:VCALENDAR